Workbook
Name area_spain: '[1]Datos básicos'!$A$36:$A$45

Sheet Datos básicos
A1: Cálculo de las emisiones asociadas GEI. Introducción de datos básicos para el cálculo | G1: Celdas a rellenar | H1: Valores obtenidos de bases de datos de referencia. Actualizables si se dispone de la información específica | I1: Valores calculados automáticamente
A2: Año del estudio:
A4: Producción de materiales
A7: Material | B7: TOTAL kg CO2 eq/kg | C7: Hilo kg CO2 eq/kg | D7: Tejido (kg CO2/kg) | E7: Nota: En el caso de producción plana-circular se suman las emisiones de la producción del hilo
A8: Fibras naturales | B8: =C8+D8 -> 0.915 | C8: 0.51 | D8: 0.405 | E8: y el proceso de tejido; en la producción de tricot y complementos solamente se considera
E9: la producción del hilo.
A10: Fibras sintéticas | B10: =C10+D10 -> 1.105 | C10: 0.7 | D10: 0.405
A12: Complementos (dato medio) | B12: =AVERAGE(B8:B10) -> 1.01 | C12: =AVERAGE(C8:C10) -> 0.605 | D12: 0.405 | E12: Nota: Dato promedio de las dos fibras consideradas
A14: Ref. Ecoinvent 2.2 database + CML 2011 (Nov. 2010)
A16: Peso medio según tipo de tejido | B16: kg / pieza (*) | C16: * En caso de no disponer de los datos, dejar el valor medio de referencia facilitado.
A17: Plana/circular | B17: 0.3 | C17: 0.3
A18: Tricot | B18: 0.257 | C18: 0.257
A19: Complemento | B19: 0.508 | C19: 0.508
A20: Peso medio de referencia por unidad transportada (kg/unidad) | B20: =AVERAGE(B17:B19) -> 0.355
A22: Transporte
A24: Emisiones CO2eq / tnkm (Kg Co2eq/Tnkm) | D24: 0.257 | E24: Transport lorry 3.5-16t, fleet average
A26: Ref. Ecoinvent 2.2 database + CML 2011 (Nov. 2010)
A28: MIX ELÉCTRICO
A30: Año referencia datos | B30: 2012
A32: País/Región | B32: % Carbón | C32: % Fuel | D32: % Gas Natural | E32: % Nuclear | F32: % Hidro+renovables | G32: kg CO2 eq/kWh | I32: País/Región | J32: kg CO2 eq/kWh
A33: ESPAÑA | B33: 0.18816772 | C33: 0.051488948 | D33: 0.24636459 | E33: 0.20658088 | F33: 0.30739786 | G33: =$B$52*B33+$B$53*C33+$B$54*D33+$B$55*E33+$B$56*F33 -> 0.4051004 | I33: ESPAÑA | J33: =G33 -> 0.4051004
A34: Europa OCDE | B34: 0.26270654 | C34: 0.018129664 | D34: 0.18465837 | E34: 0.24224128 | F34: 0.29226415 | G34: =$B$52*B34+$B$53*C34+$B$54*D34+$B$55*E34+$B$56*F34 -> 0.41694503 | I34: Europa OCDE | J34: =G34 -> 0.41694503
A35: Américas OCDE | B35: 0.33406894 | C35: 0.019263477 | D35: 0.28284545 | E35: 0.17107731 | F35: 0.19274482 | G35: =$B$52*B35+$B$53*C35+$B$54*D35+$B$55*E35+$B$56*F35 -> 0.55004615 | I35: Américas OCDE | J35: =G35 -> 0.55004615
A36: Asia Oceanía OCDE | B36: 0.39275409 | C36: 0.11412962 | D36: 0.30034796 | E36: 0.08636311 | F36: 0.10640521 | G36: =$B$52*B36+$B$53*C36+$B$54*D36+$B$55*E36+$B$56*F36 -> 0.70465424 | I36: Asia Oceanía OCDE | J36: =G36 -> 0.70465424
A37: África | B37: 0.35822314 | C37: 0.10081713 | D37: 0.354567 | E37: 0.018087047 | F37: 0.16830568 | G37: =$B$52*B37+$B$53*C37+$B$54*D37+$B$55*E37+$B$56*F37 -> 0.68741036 | I37: África | J37: =G37 -> 0.68741036
A38: América Latina | B38: 0.022817751 | C38: 0.13040326 | D38: 0.16879741 | E38: 0.019456842 | F38: 0.65852474 | G38: =$B$52*B38+$B$53*C38+$B$54*D38+$B$55*E38+$B$56*F38 -> 0.25035932 | I38: América Latina | J38: =G38 -> 0.25035932
A39: Asia excl. China | B39: 0.50112799 | C39: 0.060411097 | D39: 0.23985616 | E39: 0.033223564 | F39: 0.16538119 | G39: =$B$52*B39+$B$53*C39+$B$54*D39+$B$55*E39+$B$56*F39 -> 0.73186253 | I39: Asia excl. China | J39: =G39 -> 0.73186253
A40: China | B40: 0.75746343 | C40: 0.0015132408 | D40: 0.019134468 | E40: 0.01935144 | F40: 0.20253742 | G40: =$B$52*B40+$B$53*C40+$B$54*D40+$B$55*E40+$B$56*F40 -> 0.8135355 | I40: China | J40: =G40 -> 0.8135355
A41: Europa no OCDE y Euroasia | B41: 0.2392427 | C41: 0.022957199 | D41: 0.39660787 | E41: 0.17018673 | F41: 0.17100551 | G41: =$B$52*B41+$B$53*C41+$B$54*D41+$B$55*E41+$B$56*F41 -> 0.5228751 | I41: Europa no OCDE y Euroasia | J41: =G41 -> 0.5228751
A42: Oriente Medio | B42: 0.00044198651 | C42: 0.36229524 | D42: 0.61045298 | E42: 0.0020408727 | F42: 0.024768924 | G42: =$B$52*B42+$B$53*C42+$B$54*D42+$B$55*E42+$B$56*F42 -> 0.70145992 | I42: Oriente Medio | J42: =G42 -> 0.70145992
A44: Ref. IEA (www.iea.org/stats/prodresult.asp?PRODUCT=Electricity/Heat)
A47: Emisiones globales del mix eléctrico
A49: Año referencia datos | B49: 2012
A51: Fuente | B51: kg CO2 eq/kWh | C51: Notas de referencia
A52: Carbón | B52: 1.054 | C52: Electricity from hard coal (technology average from DE, US, and CN)
A53: Fuel | B53: 0.903 | C53: Electricity from heavy fuel oil (technology average from DE, US, and CN)
A54: Gas natural | B54: 0.612 | C54: Electricity from natural gas (technology average from DE, US, and CN)
A55: Nuclear | B55: 0.0357 | C55: Electricity from nuclear power plant (technology average from DE, US, and CN)
A56: Hidro + renovables | B56: 0.0069194722 | C56: Electricity from hydropower (technology average from DE, US, and CN) (simplifying assumption, based on the fact that hydro is still by far the largest among renewables)
A58: Ref. GaBi database + CML 2001 (PE Professional Database 2012)
...

Sheet Producción plana-circular
A1: Cálculo de las emisiones de GEI asociadas al consumo eléctrico en las diferentes plantas de producción de tejidos | G1: Celdas a rellenar
A2: Año referencia:
A4: PLANA/CIRCULAR
A5: País | B5: Consumo kWh/pieza | C5: Unidades producidas | D5: kg/unidad | E5: Área geográfica | F5: Kg CO2 eq/kWh | G5: Porcentaje en fibras naturales | H5: Porcentaje fibras sintéticas | I5: Kg CO2 eq materia prima | J5: KgCO2 eq confección
A6: ='Datos básicos'!A66 -> País 1 | B6: ='Datos básicos'!B66 -> 0.3 | D6: ='Datos básicos'!$B$17 -> 0.3 | F6: =VLOOKUP(E6,'Datos básicos'!$I$33:$J$42,2,FALSE) -> #N/A | I6: =(D6*C6)*(G6*'Datos básicos'!$B$8+H6*'Datos básicos'!$B$10) -> 0 | J6: =B6*C6*F6 -> #N/A
A7: ='Datos básicos'!A67 -> País 2 | B7: ='Datos básicos'!B67 -> 0.3 | D7: ='Datos básicos'!$B$17 -> 0.3 | F7: =VLOOKUP(E7,'Datos básicos'!$I$33:$J$42,2,FALSE) -> #N/A | I7: =(D7*C7)*(G7*'Datos básicos'!$B$8+H7*'Datos básicos'!$B$10) -> 0 | J7: =B7*C7*F7 -> #N/A
A8: ='Datos básicos'!A68 -> País 3 | B8: ='Datos básicos'!B68 -> 0.3 | D8: ='Datos básicos'!$B$17 -> 0.3 | F8: =VLOOKUP(E8,'Datos básicos'!$I$33:$J$42,2,FALSE) -> #N/A | I8: =(D8*C8)*(G8*'Datos básicos'!$B$8+H8*'Datos básicos'!$B$10) -> 0 | J8: =B8*C8*F8 -> #N/A
A9: ='Datos básicos'!A69 -> País 4 | B9: ='Datos básicos'!B69 -> 0.3 | D9: ='Datos básicos'!$B$17 -> 0.3 | F9: =VLOOKUP(E9,'Datos básicos'!$I$33:$J$42,2,FALSE) -> #N/A | I9: =(D9*C9)*(G9*'Datos básicos'!$B$8+H9*'Datos básicos'!$B$10) -> 0 | J9: =B9*C9*F9 -> #N/A
A10: ='Datos básicos'!A70 -> País 5 | B10: ='Datos básicos'!B70 -> 0.3 | D10: ='Datos básicos'!$B$17 -> 0.3 | F10: =VLOOKUP(E10,'Datos básicos'!$I$33:$J$42,2,FALSE) -> #N/A | I10: =(D10*C10)*(G10*'Datos básicos'!$B$8+H10*'Datos básicos'!$B$10) -> 0 | J10: =B10*C10*F10 -> #N/A
A11: ='Datos básicos'!A71 -> País 6 | B11: ='Datos básicos'!B71 -> 0.3 | D11: ='Datos básicos'!$B$17 -> 0.3 | F11: =VLOOKUP(E11,'Datos básicos'!$I$33:$J$42,2,FALSE) -> #N/A | I11: =(D11*C11)*(G11*'Datos básicos'!$B$8+H11*'Datos básicos'!$B$10) -> 0 | J11: =B11*C11*F11 -> #N/A
A12: ='Datos básicos'!A72 -> País 7 | B12: ='Datos básicos'!B72 -> 0.3 | D12: ='Datos básicos'!$B$17 -> 0.3 | F12: =VLOOKUP(E12,'Datos básicos'!$I$33:$J$42,2,FALSE) -> #N/A | I12: =(D12*C12)*(G12*'Datos básicos'!$B$8+H12*'Datos básicos'!$B$10) -> 0 | J12: =B12*C12*F12 -> #N/A
A13: ='Datos básicos'!A73 -> País 8 | B13: ='Datos básicos'!B73 -> 0.3 | D13: ='Datos básicos'!$B$17 -> 0.3 | F13: =VLOOKUP(E13,'Datos básicos'!$I$33:$J$42,2,FALSE) -> #N/A | I13: =(D13*C13)*(G13*'Datos básicos'!$B$8+H13*'Datos básicos'!$B$10) -> 0 | J13: =B13*C13*F13 -> #N/A
A14: ='Datos básicos'!A74 -> País 9 | B14: ='Datos básicos'!B74 -> 0.3 | D14: ='Datos básicos'!$B$17 -> 0.3 | F14: =VLOOKUP(E14,'Datos básicos'!$I$33:$J$42,2,FALSE) -> #N/A | I14: =(D14*C14)*(G14*'Datos básicos'!$B$8+H14*'Datos básicos'!$B$10) -> 0 | J14: =B14*C14*F14 -> #N/A
A15: ='Datos básicos'!A75 -> País 10 | B15: ='Datos básicos'!B75 -> 0.3 | D15: ='Datos básicos'!$B$17 -> 0.3 | F15: =VLOOKUP(E15,'Datos básicos'!$I$33:$J$42,2,FALSE) -> #N/A | I15: =(D15*C15)*(G15*'Datos básicos'!$B$8+H15*'Datos básicos'!$B$10) -> 0 | J15: =B15*C15*F15 -> #N/A
A16: ='Datos básicos'!A76 -> País 11 | B16: ='Datos básicos'!B76 -> 0.3 | D16: ='Datos básicos'!$B$17 -> 0.3 | F16: =VLOOKUP(E16,'Datos básicos'!$I$33:$J$42,2,FALSE) -> #N/A | I16: =(D16*C16)*(G16*'Datos básicos'!$B$8+H16*'Datos básicos'!$B$10) -> 0 | J16: =B16*C16*F16 -> #N/A
A17: ='Datos básicos'!A77 -> País 12 | B17: ='Datos básicos'!B77 -> 0.3 | D17: ='Datos básicos'!$B$17 -> 0.3 | F17: =VLOOKUP(E17,'Datos básicos'!$I$33:$J$42,2,FALSE) -> #N/A | I17: =(D17*C17)*(G17*'Datos básicos'!$B$8+H17*'Datos básicos'!$B$10) -> 0 | J17: =B17*C17*F17 -> #N/A
... A31: ='Datos básicos'!A91 -> País 26 | B31: ='Datos básicos'!B91 -> 0.3 | D31: ='Datos básicos'!$B$17 -> 0.3 | F31: =VLOOKUP(E31,'Datos básicos'!$I$33:$J$42,2,FALSE) -> #N/A | I31: =(D31*C31)*(G31*'Datos básicos'!$B$8+H31*'Datos básicos'!$B$10) -> 0 | J31: =B31*C31*F31 -> #N/A
A32: TOTAL | C32: =SUM(C6:C31) -> 0 | I32: =SUM(I6:I31) -> 0 | J32: =SUM(J6:J31) -> #N/A

Sheet  Producción tricot
A1: Cálculo de las emisiones de GEI asociadas al consumo eléctrico en las diferentes plantas de producción de tricot | G1: Celdas a rellenar
A2: Año referencia:
A4: TRICOT
A5: País | B5: Consumo kWh/pieza | C5: Unidades producidas | D5: kg/unidad | E5: Área geográfica | F5: Kg CO2 eq/kWh | G5: Porcentaje en fibras naturales | H5: Porcentaje fibras sintéticas | I5: Kg CO2 eq materia prima | J5: KgCO2 eq confección
A6: ='Datos básicos'!A66 -> País 1 | B6: ='Datos básicos'!B66 -> 0.3 | D6: ='Datos básicos'!$B$18 -> 0.257 | E6: ='Producción plana-circular'!E6 -> 0 | F6: ='Producción plana-circular'!F6 -> #N/A | I6: =(D6*C6)*(G6*'Datos básicos'!$C$8+H6*'Datos básicos'!$C$10) -> 0 | J6: =B6*C6*F6 -> #N/A
A7: ='Datos básicos'!A67 -> País 2 | B7: ='Datos básicos'!B67 -> 0.3 | D7: ='Datos básicos'!$B$18 -> 0.257 | E7: ='Producción plana-circular'!E7 -> 0 | F7: ='Producción plana-circular'!F7 -> #N/A | I7: =(D7*C7)*(G7*'Datos básicos'!$C$8+H7*'Datos básicos'!$C$10) -> 0 | J7: =B7*C7*F7 -> #N/A
A8: ='Datos básicos'!A68 -> País 3 | B8: ='Datos básicos'!B68 -> 0.3 | D8: ='Datos básicos'!$B$18 -> 0.257 | E8: ='Producción plana-circular'!E8 -> 0 | F8: ='Producción plana-circular'!F8 -> #N/A | I8: =(D8*C8)*(G8*'Datos básicos'!$C$8+H8*'Datos básicos'!$C$10) -> 0 | J8: =B8*C8*F8 -> #N/A
A9: ='Datos básicos'!A69 -> País 4 | B9: ='Datos básicos'!B69 -> 0.3 | D9: ='Datos básicos'!$B$18 -> 0.257 | E9: ='Producción plana-circular'!E9 -> 0 | F9: ='Producción plana-circular'!F9 -> #N/A | I9: =(D9*C9)*(G9*'Datos básicos'!$C$8+H9*'Datos básicos'!$C$10) -> 0 | J9: =B9*C9*F9 -> #N/A
A10: ='Datos básicos'!A70 -> País 5 | B10: ='Datos básicos'!B70 -> 0.3 | D10: ='Datos básicos'!$B$18 -> 0.257 | E10: ='Producción plana-circular'!E10 -> 0 | F10: ='Producción plana-circular'!F10 -> #N/A | I10: =(D10*C10)*(G10*'Datos básicos'!$C$8+H10*'Datos básicos'!$C$10) -> 0 | J10: =B10*C10*F10 -> #N/A
A11: ='Datos básicos'!A71 -> País 6 | B11: ='Datos básicos'!B71 -> 0.3 | D11: ='Datos básicos'!$B$18 -> 0.257 | E11: ='Producción plana-circular'!E11 -> 0 | F11: ='Producción plana-circular'!F11 -> #N/A | I11: =(D11*C11)*(G11*'Datos básicos'!$C$8+H11*'Datos básicos'!$C$10) -> 0 | J11: =B11*C11*F11 -> #N/A
A12: ='Datos básicos'!A72 -> País 7 | B12: ='Datos básicos'!B72 -> 0.3 | D12: ='Datos básicos'!$B$18 -> 0.257 | E12: ='Producción plana-circular'!E12 -> 0 | F12: ='Producción plana-circular'!F12 -> #N/A | I12: =(D12*C12)*(G12*'Datos básicos'!$C$8+H12*'Datos básicos'!$C$10) -> 0 | J12: =B12*C12*F12 -> #N/A
A13: ='Datos básicos'!A73 -> País 8 | B13: ='Datos básicos'!B73 -> 0.3 | D13: ='Datos básicos'!$B$18 -> 0.257 | E13: ='Producción plana-circular'!E13 -> 0 | F13: ='Producción plana-circular'!F13 -> #N/A | I13: =(D13*C13)*(G13*'Datos básicos'!$C$8+H13*'Datos básicos'!$C$10) -> 0 | J13: =B13*C13*F13 -> #N/A
A14: ='Datos básicos'!A74 -> País 9 | B14: ='Datos básicos'!B74 -> 0.3 | D14: ='Datos básicos'!$B$18 -> 0.257 | E14: ='Producción plana-circular'!E14 -> 0 | F14: ='Producción plana-circular'!F14 -> #N/A | I14: =(D14*C14)*(G14*'Datos básicos'!$C$8+H14*'Datos básicos'!$C$10) -> 0 | J14: =B14*C14*F14 -> #N/A
A15: ='Datos básicos'!A75 -> País 10 | B15: ='Datos básicos'!B75 -> 0.3 | D15: ='Datos básicos'!$B$18 -> 0.257 | E15: ='Producción plana-circular'!E15 -> 0 | F15: ='Producción plana-circular'!F15 -> #N/A | I15: =(D15*C15)*(G15*'Datos básicos'!$C$8+H15*'Datos básicos'!$C$10) -> 0 | J15: =B15*C15*F15 -> #N/A
A16: ='Datos básicos'!A76 -> País 11 | B16: ='Datos básicos'!B76 -> 0.3 | D16: ='Datos básicos'!$B$18 -> 0.257 | E16: ='Producción plana-circular'!E16 -> 0 | F16: ='Producción plana-circular'!F16 -> #N/A | I16: =(D16*C16)*(G16*'Datos básicos'!$C$8+H16*'Datos básicos'!$C$10) -> 0 | J16: =B16*C16*F16 -> #N/A
A17: ='Datos básicos'!A77 -> País 12 | B17: ='Datos básicos'!B77 -> 0.3 | D17: ='Datos básicos'!$B$18 -> 0.257 | E17: ='Producción plana-circular'!E17 -> 0 | F17: ='Producción plana-circular'!F17 -> #N/A | I17: =(D17*C17)*(G17*'Datos básicos'!$C$8+H17*'Datos básicos'!$C$10) -> 0 | J17: =B17*C17*F17 -> #N/A
... A30: ='Datos básicos'!A90 -> País 25 | B30: ='Datos básicos'!B90 -> 0.3 | D30: ='Datos básicos'!$B$18 -> 0.257 | E30: ='Producción plana-circular'!E30 -> 0 | F30: ='Producción plana-circular'!F30 -> #N/A | I30: =(D30*C30)*(G30*'Datos básicos'!$C$8+H30*'Datos básicos'!$C$10) -> 0 | J30: =B30*C30*F30 -> #N/A
A31: ='Datos básicos'!A91 -> País 26 | B31: =LOOKUP(A31,'Datos básicos'!$A$66:$B$91) -> 0.3 | D31: ='Datos básicos'!$B$18 -> 0.257 | E31: ='Producción plana-circular'!E31 -> 0 | F31: ='Producción plana-circular'!F31 -> #N/A | I31: =(D31*C31)*(G31*'Datos básicos'!$C$8+H31*'Datos básicos'!$C$10) -> 0 | J31: =B31*C31*F31 -> #N/A
A32: TOTAL | C32: =SUM(C6:C31) -> 0 | I32: =SUM(I6:I31) -> 0 | J32: =SUM(J6:J31) -> #N/A

Sheet  Producción complementos
A1: Cálculo de las emisiones de GEI asociadas al consumo eléctrico en las diferentes plantas de producción de complementos | G1: Celdas a rellenar
A2: Año referencia:
A4: COMPLEMENTOS
A5: País | B5: Consumo kWh/pieza | C5: Unidades producidas | D5: kg/unidad | E5: Área geográfica | F5: Kg CO2 eq/kWh | G5: Porcentaje en fibras naturales | H5: Porcentaje fibras sintéticas | I5: Kg CO2 eq materia prima | J5: Kg CO2 eq confección
A6: ='Datos básicos'!A66 -> País 1 | B6: ='Datos básicos'!B66 -> 0.3 | D6: ='Datos básicos'!$B$19 -> 0.508 | E6: ='Producción plana-circular'!E6 -> 0 | F6: ='Producción plana-circular'!F6 -> #N/A | I6: =(D6*C6)*(G6*'Datos básicos'!$C$8+H6*'Datos básicos'!$C$10) -> 0 | J6: =B6*C6*F6 -> #N/A
A7: ='Datos básicos'!A67 -> País 2 | B7: ='Datos básicos'!B67 -> 0.3 | D7: ='Datos básicos'!$B$19 -> 0.508 | E7: ='Producción plana-circular'!E7 -> 0 | F7: ='Producción plana-circular'!F7 -> #N/A | I7: =(D7*C7)*(G7*'Datos básicos'!$C$8+H7*'Datos básicos'!$C$10) -> 0 | J7: =B7*C7*F7 -> #N/A
A8: ='Datos básicos'!A68 -> País 3 | B8: ='Datos básicos'!B68 -> 0.3 | D8: ='Datos básicos'!$B$19 -> 0.508 | E8: ='Producción plana-circular'!E8 -> 0 | F8: ='Producción plana-circular'!F8 -> #N/A | I8: =(D8*C8)*(G8*'Datos básicos'!$C$8+H8*'Datos básicos'!$C$10) -> 0 | J8: =B8*C8*F8 -> #N/A
A9: ='Datos básicos'!A69 -> País 4 | B9: ='Datos básicos'!B69 -> 0.3 | D9: ='Datos básicos'!$B$19 -> 0.508 | E9: ='Producción plana-circular'!E9 -> 0 | F9: ='Producción plana-circular'!F9 -> #N/A | I9: =(D9*C9)*(G9*'Datos básicos'!$C$8+H9*'Datos básicos'!$C$10) -> 0 | J9: =B9*C9*F9 -> #N/A
A10: ='Datos básicos'!A70 -> País 5 | B10: ='Datos básicos'!B70 -> 0.3 | D10: ='Datos básicos'!$B$19 -> 0.508 | E10: ='Producción plana-circular'!E10 -> 0 | F10: ='Producción plana-circular'!F10 -> #N/A | I10: =(D10*C10)*(G10*'Datos básicos'!$C$8+H10*'Datos básicos'!$C$10) -> 0 | J10: =B10*C10*F10 -> #N/A
A11: ='Datos básicos'!A71 -> País 6 | B11: ='Datos básicos'!B71 -> 0.3 | D11: ='Datos básicos'!$B$19 -> 0.508 | E11: ='Producción plana-circular'!E11 -> 0 | F11: ='Producción plana-circular'!F11 -> #N/A | I11: =(D11*C11)*(G11*'Datos básicos'!$C$8+H11*'Datos básicos'!$C$10) -> 0 | J11: =B11*C11*F11 -> #N/A
A12: ='Datos básicos'!A72 -> País 7 | B12: ='Datos básicos'!B72 -> 0.3 | D12: ='Datos básicos'!$B$19 -> 0.508 | E12: ='Producción plana-circular'!E12 -> 0 | F12: ='Producción plana-circular'!F12 -> #N/A | I12: =(D12*C12)*(G12*'Datos básicos'!$C$8+H12*'Datos básicos'!$C$10) -> 0 | J12: =B12*C12*F12 -> #N/A
A13: ='Datos básicos'!A73 -> País 8 | B13: ='Datos básicos'!B73 -> 0.3 | D13: ='Datos básicos'!$B$19 -> 0.508 | E13: ='Producción plana-circular'!E13 -> 0 | F13: ='Producción plana-circular'!F13 -> #N/A | I13: =(D13*C13)*(G13*'Datos básicos'!$C$8+H13*'Datos básicos'!$C$10) -> 0 | J13: =B13*C13*F13 -> #N/A
A14: ='Datos básicos'!A74 -> País 9 | B14: ='Datos básicos'!B74 -> 0.3 | D14: ='Datos básicos'!$B$19 -> 0.508 | E14: ='Producción plana-circular'!E14 -> 0 | F14: ='Producción plana-circular'!F14 -> #N/A | I14: =(D14*C14)*(G14*'Datos básicos'!$C$8+H14*'Datos básicos'!$C$10) -> 0 | J14: =B14*C14*F14 -> #N/A
A15: ='Datos básicos'!A75 -> País 10 | B15: ='Datos básicos'!B75 -> 0.3 | D15: ='Datos básicos'!$B$19 -> 0.508 | E15: ='Producción plana-circular'!E15 -> 0 | F15: ='Producción plana-circular'!F15 -> #N/A | I15: =(D15*C15)*(G15*'Datos básicos'!$C$8+H15*'Datos básicos'!$C$10) -> 0 | J15: =B15*C15*F15 -> #N/A
A16: ='Datos básicos'!A76 -> País 11 | B16: ='Datos básicos'!B76 -> 0.3 | D16: ='Datos básicos'!$B$19 -> 0.508 | E16: ='Producción plana-circular'!E16 -> 0 | F16: ='Producción plana-circular'!F16 -> #N/A | I16: =(D16*C16)*(G16*'Datos básicos'!$C$8+H16*'Datos básicos'!$C$10) -> 0 | J16: =B16*C16*F16 -> #N/A
A17: ='Datos básicos'!A77 -> País 12 | B17: ='Datos básicos'!B77 -> 0.3 | D17: ='Datos básicos'!$B$19 -> 0.508 | E17: ='Producción plana-circular'!E17 -> 0 | F17: ='Producción plana-circular'!F17 -> #N/A | I17: =(D17*C17)*(G17*'Datos básicos'!$C$8+H17*'Datos básicos'!$C$10) -> 0 | J17: =B17*C17*F17 -> #N/A
... A30: ='Datos básicos'!A90 -> País 25 | B30: ='Datos básicos'!B90 -> 0.3 | D30: ='Datos básicos'!$B$19 -> 0.508 | E30: ='Producción plana-circular'!E30 -> 0 | F30: ='Producción plana-circular'!F30 -> #N/A | I30: =(D30*C30)*(G30*'Datos básicos'!$C$8+H30*'Datos básicos'!$C$10) -> 0 | J30: =B30*C30*F30 -> #N/A
A31: ='Datos básicos'!A91 -> País 26 | B31: =LOOKUP(A31,'Datos básicos'!$A$66:$B$91) -> 0.3 | D31: ='Datos básicos'!$B$19 -> 0.508 | E31: ='Producción plana-circular'!E31 -> 0 | F31: ='Producción plana-circular'!F31 -> #N/A | I31: =(D31*C31)*(G31*'Datos básicos'!$C$8+H31*'Datos básicos'!$C$10) -> 0 | J31: =B31*C31*F31 -> #N/A
A32: TOTAL | C32: =SUM(C6:C31) -> 0 | I32: =SUM(I6:I31) -> 0 | J32: =SUM(J6:J31) -> #N/A

Sheet Transporte
A1: Cálculo de las emisiones de GEI asociadas al transporte hasta las diferentes plantas de producción | H1: Celdas a rellenar
A2: Año de referencia:
A4: País | B4: Unidades totales transportadas por país / año | C4: Distancia media en Km | D4: Kg CO2 eq plana/circular | E4: Kg CO2 eq tricot | F4: Kg CO2 eq complementos | G4: Kg CO2 eq transporte totales
A5: ='Datos básicos'!A66 -> País 1 | B5: ='Producción plana-circular'!C6+' Producción tricot'!C6+' Producción complementos'!C6 -> 0 | D5: ='Producción plana-circular'!C6*'Producción plana-circular'!D6*0.001*C5*$C$35 -> 0 | E5: =' Producción tricot'!C6*' Producción tricot'!D6*0.001*C5*$C$35 -> 0 | F5: =' Producción complementos'!C6*' Producción complementos'!D6*0.001*C5*$C$35 -> 0 | G5: =D5+E5+F5 -> 0
A6: ='Datos básicos'!A67 -> País 2 | B6: ='Producción plana-circular'!C7+' Producción tricot'!C7+' Producción complementos'!C7 -> 0 | D6: ='Producción plana-circular'!C7*'Producción plana-circular'!D7*0.001*C6*$C$35 -> 0 | E6: =' Producción tricot'!C7*' Producción tricot'!D7*0.001*C6*$C$35 -> 0 | F6: =' Producción complementos'!C7*' Producción complementos'!D7*0.001*C6*$C$35 -> 0 | G6: =D6+E6+F6 -> 0
A7: ='Datos básicos'!A68 -> País 3 | B7: ='Producción plana-circular'!C8+' Producción tricot'!C8+' Producción complementos'!C8 -> 0 | D7: ='Producción plana-circular'!C8*'Producción plana-circular'!D8*0.001*C7*$C$35 -> 0 | E7: =' Producción tricot'!C8*' Producción tricot'!D8*0.001*C7*$C$35 -> 0 | F7: =' Producción complementos'!C8*' Producción complementos'!D8*0.001*C7*$C$35 -> 0 | G7: =D7+E7+F7 -> 0
A8: ='Datos básicos'!A69 -> País 4 | B8: ='Producción plana-circular'!C9+' Producción tricot'!C9+' Producción complementos'!C9 -> 0 | D8: ='Producción plana-circular'!C9*'Producción plana-circular'!D9*0.001*C8*$C$35 -> 0 | E8: =' Producción tricot'!C9*' Producción tricot'!D9*0.001*C8*$C$35 -> 0 | F8: =' Producción complementos'!C9*' Producción complementos'!D9*0.001*C8*$C$35 -> 0 | G8: =D8+E8+F8 -> 0
A9: ='Datos básicos'!A70 -> País 5 | B9: ='Producción plana-circular'!C10+' Producción tricot'!C10+' Producción complementos'!C10 -> 0 | D9: ='Producción plana-circular'!C10*'Producción plana-circular'!D10*0.001*C9*$C$35 -> 0 | E9: =' Producción tricot'!C10*' Producción tricot'!D10*0.001*C9*$C$35 -> 0 | F9: =' Producción complementos'!C10*' Producción complementos'!D10*0.001*C9*$C$35 -> 0 | G9: =D9+E9+F9 -> 0
A10: ='Datos básicos'!A71 -> País 6 | B10: ='Producción plana-circular'!C11+' Producción tricot'!C11+' Producción complementos'!C11 -> 0 | D10: ='Producción plana-circular'!C11*'Producción plana-circular'!D11*0.001*C10*$C$35 -> 0 | E10: =' Producción tricot'!C11*' Producción tricot'!D11*0.001*C10*$C$35 -> 0 | F10: =' Producción complementos'!C11*' Producción complementos'!D11*0.001*C10*$C$35 -> 0 | G10: =D10+E10+F10 -> 0
A11: ='Datos básicos'!A72 -> País 7 | B11: ='Producción plana-circular'!C12+' Producción tricot'!C12+' Producción complementos'!C12 -> 0 | D11: ='Producción plana-circular'!C12*'Producción plana-circular'!D12*0.001*C11*$C$35 -> 0 | E11: =' Producción tricot'!C12*' Producción tricot'!D12*0.001*C11*$C$35 -> 0 | F11: =' Producción complementos'!C12*' Producción complementos'!D12*0.001*C11*$C$35 -> 0 | G11: =D11+E11+F11 -> 0
A12: ='Datos básicos'!A73 -> País 8 | B12: ='Producción plana-circular'!C13+' Producción tricot'!C13+' Producción complementos'!C13 -> 0 | D12: ='Producción plana-circular'!C13*'Producción plana-circular'!D13*0.001*C12*$C$35 -> 0 | E12: =' Producción tricot'!C13*' Producción tricot'!D13*0.001*C12*$C$35 -> 0 | F12: =' Producción complementos'!C13*' Producción complementos'!D13*0.001*C12*$C$35 -> 0 | G12: =D12+E12+F12 -> 0
A13: ='Datos básicos'!A74 -> País 9 | B13: ='Producción plana-circular'!C14+' Producción tricot'!C14+' Producción complementos'!C14 -> 0 | D13: ='Producción plana-circular'!C14*'Producción plana-circular'!D14*0.001*C13*$C$35 -> 0 | E13: =' Producción tricot'!C14*' Producción tricot'!D14*0.001*C13*$C$35 -> 0 | F13: =' Producción complementos'!C14*' Producción complementos'!D14*0.001*C13*$C$35 -> 0 | G13: =D13+E13+F13 -> 0
A14: ='Datos básicos'!A75 -> País 10 | B14: ='Producción plana-circular'!C15+' Producción tricot'!C15+' Producción complementos'!C15 -> 0 | D14: ='Producción plana-circular'!C15*'Producción plana-circular'!D15*0.001*C14*$C$35 -> 0 | E14: =' Producción tricot'!C15*' Producción tricot'!D15*0.001*C14*$C$35 -> 0 | F14: =' Producción complementos'!C15*' Producción complementos'!D15*0.001*C14*$C$35 -> 0 | G14: =D14+E14+F14 -> 0
A15: ='Datos básicos'!A76 -> País 11 | B15: ='Producción plana-circular'!C16+' Producción tricot'!C16+' Producción complementos'!C16 -> 0 | D15: ='Producción plana-circular'!C16*'Producción plana-circular'!D16*0.001*C15*$C$35 -> 0 | E15: =' Producción tricot'!C16*' Producción tricot'!D16*0.001*C15*$C$35 -> 0 | F15: =' Producción complementos'!C16*' Producción complementos'!D16*0.001*C15*$C$35 -> 0 | G15: =D15+E15+F15 -> 0
A16: ='Datos básicos'!A77 -> País 12 | B16: ='Producción plana-circular'!C17+' Producción tricot'!C17+' Producción complementos'!C17 -> 0 | D16: ='Producción plana-circular'!C17*'Producción plana-circular'!D17*0.001*C16*$C$35 -> 0 | E16: =' Producción tricot'!C17*' Producción tricot'!D17*0.001*C16*$C$35 -> 0 | F16: =' Producción complementos'!C17*' Producción complementos'!D17*0.001*C16*$C$35 -> 0 | G16: =D16+E16+F16 -> 0
... A30: ='Datos básicos'!A91 -> País 26 | B30: ='Producción plana-circular'!C31+' Producción tricot'!C31+' Producción complementos'!C31 -> 0 | D30: ='Producción plana-circular'!C31*'Producción plana-circular'!D31*0.001*C30*$C$35 -> 0 | E30: =' Producción tricot'!C31*' Producción tricot'!D31*0.001*C30*$C$35 -> 0 | F30: =' Producción complementos'!C31*' Producción complementos'!D31*0.001*C30*$C$35 -> 0 | G30: =D30+E30+F30 -> 0
A31: TOTAL | B31: =SUM(B5:B30) -> 0 | D31: =SUM(D5:D30) -> 0 | E31: =SUM(E5:E30) -> 0 | F31: =SUM(F5:F30) -> 0 | G31: =SUM(G5:G30) -> 0
A34: Peso medio por unidad transportada (kg/unidad) | C34: ='Datos básicos'!B20 -> 0.355
A35: Emisiones CO2eq / tnkm (Kg Co2eq/Tnkm) | C35: ='Datos básicos'!D24 -> 0.257

Sheet RESULTADOS
A1: RESULTADOS del cálculo de las emisiones de GEI
A2: Año de referencia:
A4: País | B4: Unidades producidas/año | C4: CO2 eq electricidad [Kg] | D4: CO2 eq transporte [Kg] | E4: CO2 eq materiales [Kg] | F4: CO2 eq totales [Kg] | G4: Contribución relativa por país [%] | H4: CO2 eq totales [Kg] / unidad
A5: ='Datos básicos'!A66 -> País 1 | B5: ='Producción plana-circular'!C6+' Producción tricot'!C6+' Producción complementos'!C6 -> 0 | C5: ='Producción plana-circular'!J6+' Producción tricot'!J6+' Producción complementos'!J6 -> #N/A | D5: =Transporte!$D5 -> 0 | E5: ='Producción plana-circular'!I6+' Producción tricot'!I6+' Producción complementos'!I6 -> 0 | F5: =C5+D5+E5 -> #N/A | G5: =F5/$F$31 -> #N/A | H5: =F5/B5 -> #N/A
A6: ='Datos básicos'!A67 -> País 2 | B6: ='Producción plana-circular'!C7+' Producción tricot'!C7+' Producción complementos'!C7 -> 0 | C6: ='Producción plana-circular'!J7+' Producción tricot'!J7+' Producción complementos'!J7 -> #N/A | D6: =Transporte!$D6 -> 0 | E6: ='Producción plana-circular'!I7+' Producción tricot'!I7+' Producción complementos'!I7 -> 0 | F6: =C6+D6+E6 -> #N/A | G6: =F6/$F$31 -> #N/A | H6: =F6/B6 -> #N/A
A7: ='Datos básicos'!A68 -> País 3 | B7: ='Producción plana-circular'!C8+' Producción tricot'!C8+' Producción complementos'!C8 -> 0 | C7: ='Producción plana-circular'!J8+' Producción tricot'!J8+' Producción complementos'!J8 -> #N/A | D7: =Transporte!$D7 -> 0 | E7: ='Producción plana-circular'!I8+' Producción tricot'!I8+' Producción complementos'!I8 -> 0 | F7: =C7+D7+E7 -> #N/A | G7: =F7/$F$31 -> #N/A | H7: =F7/B7 -> #N/A
A8: ='Datos básicos'!A69 -> País 4 | B8: ='Producción plana-circular'!C9+' Producción tricot'!C9+' Producción complementos'!C9 -> 0 | C8: ='Producción plana-circular'!J9+' Producción tricot'!J9+' Producción complementos'!J9 -> #N/A | D8: =Transporte!$D8 -> 0 | E8: ='Producción plana-circular'!I9+' Producción tricot'!I9+' Producción complementos'!I9 -> 0 | F8: =C8+D8+E8 -> #N/A | G8: =F8/$F$31 -> #N/A | H8: =F8/B8 -> #N/A
A9: ='Datos básicos'!A70 -> País 5 | B9: ='Producción plana-circular'!C10+' Producción tricot'!C10+' Producción complementos'!C10 -> 0 | C9: ='Producción plana-circular'!J10+' Producción tricot'!J10+' Producción complementos'!J10 -> #N/A | D9: =Transporte!$D9 -> 0 | E9: ='Producción plana-circular'!I10+' Producción tricot'!I10+' Producción complementos'!I10 -> 0 | F9: =C9+D9+E9 -> #N/A | G9: =F9/$F$31 -> #N/A | H9: =F9/B9 -> #N/A
A10: ='Datos básicos'!A71 -> País 6 | B10: ='Producción plana-circular'!C11+' Producción tricot'!C11+' Producción complementos'!C11 -> 0 | C10: ='Producción plana-circular'!J11+' Producción tricot'!J11+' Producción complementos'!J11 -> #N/A | D10: =Transporte!$D10 -> 0 | E10: ='Producción plana-circular'!I11+' Producción tricot'!I11+' Producción complementos'!I11 -> 0 | F10: =C10+D10+E10 -> #N/A | G10: =F10/$F$31 -> #N/A | H10: =F10/B10 -> #N/A
A11: ='Datos básicos'!A72 -> País 7 | B11: ='Producción plana-circular'!C12+' Producción tricot'!C12+' Producción complementos'!C12 -> 0 | C11: ='Producción plana-circular'!J12+' Producción tricot'!J12+' Producción complementos'!J12 -> #N/A | D11: =Transporte!$D11 -> 0 | E11: ='Producción plana-circular'!I12+' Producción tricot'!I12+' Producción complementos'!I12 -> 0 | F11: =C11+D11+E11 -> #N/A | G11: =F11/$F$31 -> #N/A | H11: =F11/B11 -> #N/A
A12: ='Datos básicos'!A73 -> País 8 | B12: ='Producción plana-circular'!C13+' Producción tricot'!C13+' Producción complementos'!C13 -> 0 | C12: ='Producción plana-circular'!J13+' Producción tricot'!J13+' Producción complementos'!J13 -> #N/A | D12: =Transporte!$D12 -> 0 | E12: ='Producción plana-circular'!I13+' Producción tricot'!I13+' Producción complementos'!I13 -> 0 | F12: =C12+D12+E12 -> #N/A | G12: =F12/$F$31 -> #N/A | H12: =F12/B12 -> #N/A
A13: ='Datos básicos'!A74 -> País 9 | B13: ='Producción plana-circular'!C14+' Producción tricot'!C14+' Producción complementos'!C14 -> 0 | C13: ='Producción plana-circular'!J14+' Producción tricot'!J14+' Producción complementos'!J14 -> #N/A | D13: =Transporte!$D13 -> 0 | E13: ='Producción plana-circular'!I14+' Producción tricot'!I14+' Producción complementos'!I14 -> 0 | F13: =C13+D13+E13 -> #N/A | G13: =F13/$F$31 -> #N/A | H13: =F13/B13 -> #N/A
A14: ='Datos básicos'!A75 -> País 10 | B14: ='Producción plana-circular'!C15+' Producción tricot'!C15+' Producción complementos'!C15 -> 0 | C14: ='Producción plana-circular'!J15+' Producción tricot'!J15+' Producción complementos'!J15 -> #N/A | D14: =Transporte!$D14 -> 0 | E14: ='Producción plana-circular'!I15+' Producción tricot'!I15+' Producción complementos'!I15 -> 0 | F14: =C14+D14+E14 -> #N/A | G14: =F14/$F$31 -> #N/A | H14: =F14/B14 -> #N/A
A15: ='Datos básicos'!A76 -> País 11 | B15: ='Producción plana-circular'!C16+' Producción tricot'!C16+' Producción complementos'!C16 -> 0 | C15: ='Producción plana-circular'!J16+' Producción tricot'!J16+' Producción complementos'!J16 -> #N/A | D15: =Transporte!$D15 -> 0 | E15: ='Producción plana-circular'!I16+' Producción tricot'!I16+' Producción complementos'!I16 -> 0 | F15: =C15+D15+E15 -> #N/A | G15: =F15/$F$31 -> #N/A | H15: =F15/B15 -> #N/A
A16: ='Datos básicos'!A77 -> País 12 | B16: ='Producción plana-circular'!C17+' Producción tricot'!C17+' Producción complementos'!C17 -> 0 | C16: ='Producción plana-circular'!J17+' Producción tricot'!J17+' Producción complementos'!J17 -> #N/A | D16: =Transporte!$D16 -> 0 | E16: ='Producción plana-circular'!I17+' Producción tricot'!I17+' Producción complementos'!I17 -> 0 | F16: =C16+D16+E16 -> #N/A | G16: =F16/$F$31 -> #N/A | H16: =F16/B16 -> #N/A
... A30: ='Datos básicos'!A91 -> País 26 | B30: ='Producción plana-circular'!C31+' Producción tricot'!C31+' Producción complementos'!C31 -> 0 | C30: ='Producción plana-circular'!J31+' Producción tricot'!J31+' Producción complementos'!J31 -> #N/A | D30: =Transporte!$D30 -> 0 | E30: ='Producción plana-circular'!I31+' Producción tricot'!I31+' Producción complementos'!I31 -> 0 | F30: =C30+D30+E30 -> #N/A | G30: =F30/$F$31 -> #N/A | H30: =F30/B30 -> #N/A
A31: TOTAL | B31: =SUM(B5:B30) -> 0 | C31: =SUM(C5:C30) -> #N/A | D31: =SUM(D5:D30) -> 0 | E31: =SUM(E5:E30) -> 0 | F31: =SUM(F5:F30) -> #N/A | H31: =F31/B31 -> #N/A
